BEGIN:VCALENDAR
VERSION:2.0
PRODID:icalendar-ruby
CALSCALE:GREGORIAN
METHOD:PUBLISH
BEGIN:VEVENT
DTSTAMP:20260423T120226Z
UID:6-11284995@cloverdalefpc.ca
DTSTART:20171105T183000Z
DTEND:20171105T193000Z
CLASS:PUBLIC
CREATED:20260423T031854
DESCRIPTION:Sunday Morning Service
LAST-MODIFIED:20260423T031854
LOCATION:
SUMMARY:Sunday Morning Service
URL;VALUE=URI:https://www.cloverdalefpc.ca/events/sunday-morning-service/20
 17-11-05
END:VEVENT
END:VCALENDAR
