BEGIN:VCALENDAR
VERSION:2.0
PRODID:icalendar-ruby
CALSCALE:GREGORIAN
METHOD:PUBLISH
BEGIN:VEVENT
DTSTAMP:20260423T135905Z
UID:6-11290288@cloverdalefpc.ca
DTSTART:20171112T183000Z
DTEND:20171112T193000Z
CLASS:PUBLIC
CREATED:20260423T061435
DESCRIPTION:Sunday Morning Service
LAST-MODIFIED:20260423T061435
LOCATION:
SUMMARY:Sunday Morning Service
URL;VALUE=URI:https://www.cloverdalefpc.ca/events/sunday-morning-service/20
 17-11-12
END:VEVENT
END:VCALENDAR
