BEGIN:VCALENDAR
VERSION:2.0
PRODID:icalendar-ruby
CALSCALE:GREGORIAN
METHOD:PUBLISH
BEGIN:VEVENT
DTSTAMP:20260423T175425Z
UID:6-11295582@cloverdalefpc.ca
DTSTART:20171126T183000Z
DTEND:20171126T193000Z
CLASS:PUBLIC
CREATED:20260423T090704
DESCRIPTION:Sunday Morning Service
LAST-MODIFIED:20260423T090704
LOCATION:
SUMMARY:Sunday Morning Service
URL;VALUE=URI:https://www.cloverdalefpc.ca/events/sunday-morning-service/20
 17-11-26
END:VEVENT
END:VCALENDAR
