BEGIN:VCALENDAR
VERSION:2.0
PRODID:icalendar-ruby
CALSCALE:GREGORIAN
METHOD:PUBLISH
BEGIN:VEVENT
DTSTAMP:20260423T194257Z
UID:6-11300875@cloverdalefpc.ca
DTSTART:20171203T183000Z
DTEND:20171203T193000Z
CLASS:PUBLIC
CREATED:20260423T120420
DESCRIPTION:Sunday Morning Service
LAST-MODIFIED:20260423T120420
LOCATION:
SUMMARY:Sunday Morning Service
URL;VALUE=URI:https://www.cloverdalefpc.ca/events/sunday-morning-service/20
 17-12-03
END:VEVENT
END:VCALENDAR
