BEGIN:VCALENDAR
VERSION:2.0
PRODID:icalendar-ruby
CALSCALE:GREGORIAN
METHOD:PUBLISH
BEGIN:VEVENT
DTSTAMP:20260423T233006Z
UID:6-11306169@cloverdalefpc.ca
DTSTART:20171217T183000Z
DTEND:20171217T193000Z
CLASS:PUBLIC
CREATED:20260423T145842
DESCRIPTION:Sunday Morning Service
LAST-MODIFIED:20260423T145842
LOCATION:
SUMMARY:Sunday Morning Service
URL;VALUE=URI:https://www.cloverdalefpc.ca/events/sunday-morning-service/20
 17-12-17
END:VEVENT
END:VCALENDAR
