BEGIN:VCALENDAR
VERSION:2.0
PRODID:icalendar-ruby
CALSCALE:GREGORIAN
METHOD:PUBLISH
BEGIN:VEVENT
DTSTAMP:20260424T025603Z
UID:6-11311463@cloverdalefpc.ca
DTSTART:20171231T183000Z
DTEND:20171231T193000Z
CLASS:PUBLIC
CREATED:20260423T175122
DESCRIPTION:Sunday Morning Service
LAST-MODIFIED:20260423T175122
LOCATION:
SUMMARY:Sunday Morning Service
URL;VALUE=URI:https://www.cloverdalefpc.ca/events/sunday-morning-service/20
 17-12-31
END:VEVENT
END:VCALENDAR
