BEGIN:VCALENDAR
VERSION:2.0
PRODID:icalendar-ruby
CALSCALE:GREGORIAN
METHOD:PUBLISH
BEGIN:VEVENT
DTSTAMP:20260424T113659Z
UID:6-11316761@cloverdalefpc.ca
DTSTART:20180211T183000Z
DTEND:20180211T193000Z
CLASS:PUBLIC
CREATED:20260424T031922
DESCRIPTION:Sunday Morning Service
LAST-MODIFIED:20260424T031922
LOCATION:
SUMMARY:Sunday Morning Service
URL;VALUE=URI:https://www.cloverdalefpc.ca/events/sunday-morning-service/20
 18-02-11
END:VEVENT
END:VCALENDAR
