BEGIN:VCALENDAR
VERSION:2.0
PRODID:icalendar-ruby
CALSCALE:GREGORIAN
METHOD:PUBLISH
BEGIN:VEVENT
DTSTAMP:20260424T160133Z
UID:6-11322056@cloverdalefpc.ca
DTSTART:20180304T183000Z
DTEND:20180304T193000Z
CLASS:PUBLIC
CREATED:20260424T061413
DESCRIPTION:Sunday Morning Service
LAST-MODIFIED:20260424T061413
LOCATION:
SUMMARY:Sunday Morning Service
URL;VALUE=URI:https://www.cloverdalefpc.ca/events/sunday-morning-service/20
 18-03-04
END:VEVENT
END:VCALENDAR
