BEGIN:VCALENDAR
VERSION:2.0
PRODID:icalendar-ruby
CALSCALE:GREGORIAN
METHOD:PUBLISH
BEGIN:VEVENT
DTSTAMP:20260424T172458Z
UID:6-11327349@cloverdalefpc.ca
DTSTART:20180311T173000Z
DTEND:20180311T183000Z
CLASS:PUBLIC
CREATED:20260424T090549
DESCRIPTION:Sunday Morning Service
LAST-MODIFIED:20260424T090549
LOCATION:
SUMMARY:Sunday Morning Service
URL;VALUE=URI:https://www.cloverdalefpc.ca/events/sunday-morning-service/20
 18-03-11
END:VEVENT
END:VCALENDAR
