BEGIN:VCALENDAR
VERSION:2.0
PRODID:icalendar-ruby
CALSCALE:GREGORIAN
METHOD:PUBLISH
BEGIN:VEVENT
DTSTAMP:20260424T204557Z
UID:6-11332643@cloverdalefpc.ca
DTSTART:20180325T173000Z
DTEND:20180325T183000Z
CLASS:PUBLIC
CREATED:20260424T115120
DESCRIPTION:Sunday Morning Service
LAST-MODIFIED:20260424T115120
LOCATION:
SUMMARY:Sunday Morning Service
URL;VALUE=URI:https://www.cloverdalefpc.ca/events/sunday-morning-service/20
 18-03-25
END:VEVENT
END:VCALENDAR
