BEGIN:VCALENDAR
VERSION:2.0
PRODID:icalendar-ruby
CALSCALE:GREGORIAN
METHOD:PUBLISH
BEGIN:VEVENT
DTSTAMP:20260425T002354Z
UID:6-11337937@cloverdalefpc.ca
DTSTART:20180408T173000Z
DTEND:20180408T183000Z
CLASS:PUBLIC
CREATED:20260424T143924
DESCRIPTION:Sunday Morning Service
LAST-MODIFIED:20260424T143924
LOCATION:
SUMMARY:Sunday Morning Service
URL;VALUE=URI:https://www.cloverdalefpc.ca/events/sunday-morning-service/20
 18-04-08
END:VEVENT
END:VCALENDAR
