BEGIN:VCALENDAR
VERSION:2.0
PRODID:icalendar-ruby
CALSCALE:GREGORIAN
METHOD:PUBLISH
BEGIN:VEVENT
DTSTAMP:20260425T020904Z
UID:6-11343230@cloverdalefpc.ca
DTSTART:20180415T173000Z
DTEND:20180415T183000Z
CLASS:PUBLIC
CREATED:20260424T172712
DESCRIPTION:Sunday Morning Service
LAST-MODIFIED:20260424T172712
LOCATION:
SUMMARY:Sunday Morning Service
URL;VALUE=URI:https://www.cloverdalefpc.ca/events/sunday-morning-service/20
 18-04-15
END:VEVENT
END:VCALENDAR
