BEGIN:VCALENDAR
VERSION:2.0
PRODID:icalendar-ruby
CALSCALE:GREGORIAN
METHOD:PUBLISH
BEGIN:VEVENT
DTSTAMP:20260425T123604Z
UID:6-11348528@cloverdalefpc.ca
DTSTART:20180527T173000Z
DTEND:20180527T183000Z
CLASS:PUBLIC
CREATED:20260425T031749
DESCRIPTION:Sunday Morning Service
LAST-MODIFIED:20260425T031749
LOCATION:
SUMMARY:Sunday Morning Service
URL;VALUE=URI:https://www.cloverdalefpc.ca/events/sunday-morning-service/20
 18-05-27
END:VEVENT
END:VCALENDAR
