BEGIN:VCALENDAR
VERSION:2.0
PRODID:icalendar-ruby
CALSCALE:GREGORIAN
METHOD:PUBLISH
BEGIN:VEVENT
DTSTAMP:20260425T143730Z
UID:6-11353821@cloverdalefpc.ca
DTSTART:20180603T173000Z
DTEND:20180603T183000Z
CLASS:PUBLIC
CREATED:20260425T055919
DESCRIPTION:Sunday Morning Service
LAST-MODIFIED:20260425T055919
LOCATION:
SUMMARY:Sunday Morning Service
URL;VALUE=URI:https://www.cloverdalefpc.ca/events/sunday-morning-service/20
 18-06-03
END:VEVENT
END:VCALENDAR
