BEGIN:VCALENDAR
VERSION:2.0
PRODID:icalendar-ruby
CALSCALE:GREGORIAN
METHOD:PUBLISH
BEGIN:VEVENT
DTSTAMP:20260425T163538Z
UID:6-11359114@cloverdalefpc.ca
DTSTART:20180610T173000Z
DTEND:20180610T183000Z
CLASS:PUBLIC
CREATED:20260425T084007
DESCRIPTION:Sunday Morning Service
LAST-MODIFIED:20260425T084007
LOCATION:
SUMMARY:Sunday Morning Service
URL;VALUE=URI:https://www.cloverdalefpc.ca/events/sunday-morning-service/20
 18-06-10
END:VEVENT
END:VCALENDAR
