BEGIN:VCALENDAR
VERSION:2.0
PRODID:icalendar-ruby
CALSCALE:GREGORIAN
METHOD:PUBLISH
BEGIN:VEVENT
DTSTAMP:20260425T194909Z
UID:6-11364408@cloverdalefpc.ca
DTSTART:20180624T173000Z
DTEND:20180624T183000Z
CLASS:PUBLIC
CREATED:20260425T112015
DESCRIPTION:Sunday Morning Service
LAST-MODIFIED:20260425T112015
LOCATION:
SUMMARY:Sunday Morning Service
URL;VALUE=URI:https://www.cloverdalefpc.ca/events/sunday-morning-service/20
 18-06-24
END:VEVENT
END:VCALENDAR
