BEGIN:VCALENDAR
VERSION:2.0
PRODID:icalendar-ruby
CALSCALE:GREGORIAN
METHOD:PUBLISH
BEGIN:VEVENT
DTSTAMP:20260425T213935Z
UID:6-11369701@cloverdalefpc.ca
DTSTART:20180701T173000Z
DTEND:20180701T183000Z
CLASS:PUBLIC
CREATED:20260425T140156
DESCRIPTION:Sunday Morning Service
LAST-MODIFIED:20260425T140156
LOCATION:
SUMMARY:Sunday Morning Service
URL;VALUE=URI:https://www.cloverdalefpc.ca/events/sunday-morning-service/20
 18-07-01
END:VEVENT
END:VCALENDAR
