BEGIN:VCALENDAR
VERSION:2.0
PRODID:icalendar-ruby
CALSCALE:GREGORIAN
METHOD:PUBLISH
BEGIN:VEVENT
DTSTAMP:20260426T030354Z
UID:6-11374996@cloverdalefpc.ca
DTSTART:20180722T173000Z
DTEND:20180722T183000Z
CLASS:PUBLIC
CREATED:20260425T164457
DESCRIPTION:Sunday Morning Service
LAST-MODIFIED:20260425T164457
LOCATION:
SUMMARY:Sunday Morning Service
URL;VALUE=URI:https://www.cloverdalefpc.ca/events/sunday-morning-service/20
 18-07-22
END:VEVENT
END:VCALENDAR
