BEGIN:VCALENDAR
VERSION:2.0
PRODID:icalendar-ruby
CALSCALE:GREGORIAN
METHOD:PUBLISH
BEGIN:VEVENT
DTSTAMP:20260421T123916Z
UID:6-11221992@cloverdalefpc.ca
DTSTART:20261004T173000Z
DTEND:20261004T183000Z
CLASS:PUBLIC
CREATED:20260421T031702
DESCRIPTION:Sunday Morning Service
LAST-MODIFIED:20260421T031702
LOCATION:
SUMMARY:Sunday Morning Service
URL;VALUE=URI:https://www.cloverdalefpc.ca/events/sunday-morning-service/20
 26-10-04
END:VEVENT
END:VCALENDAR
