BEGIN:VCALENDAR
VERSION:2.0
PRODID:icalendar-ruby
CALSCALE:GREGORIAN
METHOD:PUBLISH
BEGIN:VEVENT
DTSTAMP:20260421T162749Z
UID:6-11232572@cloverdalefpc.ca
DTSTART:20261018T173000Z
DTEND:20261018T183000Z
CLASS:PUBLIC
CREATED:20260421T082920
DESCRIPTION:Sunday Morning Service
LAST-MODIFIED:20260421T082920
LOCATION:
SUMMARY:Sunday Morning Service
URL;VALUE=URI:https://www.cloverdalefpc.ca/events/sunday-morning-service/20
 26-10-18
END:VEVENT
END:VCALENDAR
