BEGIN:VCALENDAR
VERSION:2.0
PRODID:icalendar-ruby
CALSCALE:GREGORIAN
METHOD:PUBLISH
BEGIN:VEVENT
DTSTAMP:20260421T182232Z
UID:6-11237862@cloverdalefpc.ca
DTSTART:20261025T173000Z
DTEND:20261025T183000Z
CLASS:PUBLIC
CREATED:20260421T110906
DESCRIPTION:Sunday Morning Service
LAST-MODIFIED:20260421T110906
LOCATION:
SUMMARY:Sunday Morning Service
URL;VALUE=URI:https://www.cloverdalefpc.ca/events/sunday-morning-service/20
 26-10-25
END:VEVENT
END:VCALENDAR
