BEGIN:VCALENDAR
VERSION:2.0
PRODID:icalendar-ruby
CALSCALE:GREGORIAN
METHOD:PUBLISH
BEGIN:VEVENT
DTSTAMP:20260422T013212Z
UID:87-11251795@cloverdalefpc.ca
DTSTART:20241110T173000Z
DTEND:20241110T183000Z
CLASS:PUBLIC
CREATED:20260421T162351
DESCRIPTION:Sunday School Hour for all ages.  Children divide into classes
  according to age and meet in the basement. The adult class is a doctrinal
  class for adults taught by Pastor Goligher.
LAST-MODIFIED:20260421T162351
LOCATION:Basement
SUMMARY:Sunday School Hour for all ages
URL;VALUE=URI:https://www.cloverdalefpc.ca/events/sunday-school-hour-for-al
 l-ages/2024-11-10
END:VEVENT
END:VCALENDAR
