BEGIN:VCALENDAR
VERSION:2.0
PRODID:icalendar-ruby
CALSCALE:GREGORIAN
METHOD:PUBLISH
BEGIN:VEVENT
DTSTAMP:20260421T201239Z
UID:87-11241265@cloverdalefpc.ca
DTSTART:20251012T163000Z
DTEND:20251012T173000Z
CLASS:PUBLIC
CREATED:20260421T110911
DESCRIPTION:Sunday School Hour for all ages.  Children divide into classes
  according to age and meet in the basement. The adult class is a doctrinal
  class for adults taught by Pastor Goligher.
LAST-MODIFIED:20260421T110911
LOCATION:Basement
SUMMARY:Sunday School Hour for all ages
URL;VALUE=URI:https://www.cloverdalefpc.ca/events/sunday-school-hour-for-al
 l-ages/2025-10-12
END:VEVENT
END:VCALENDAR
