BEGIN:VCALENDAR
VERSION:2.0
PRODID:icalendar-ruby
CALSCALE:GREGORIAN
METHOD:PUBLISH
BEGIN:VEVENT
DTSTAMP:20260423T132727Z
UID:87-11294214@cloverdalefpc.ca
DTSTART:20261025T163000Z
DTEND:20261025T173000Z
CLASS:PUBLIC
CREATED:20260423T061442
DESCRIPTION:Sunday School Hour for all ages.  Children divide into classes
  according to age and meet in the basement. The adult class is a doctrinal
  class for adults taught by Pastor Goligher.
LAST-MODIFIED:20260423T061442
LOCATION:Basement
SUMMARY:Sunday School Hour for all ages
URL;VALUE=URI:https://www.cloverdalefpc.ca/events/sunday-school-hour-for-al
 l-ages/2026-10-25
END:VEVENT
END:VCALENDAR
