BEGIN:VCALENDAR
VERSION:2.0
PRODID:icalendar-ruby
CALSCALE:GREGORIAN
METHOD:PUBLISH
BEGIN:VEVENT
DTSTAMP:20260419T121546Z
UID:5-11157862@cloverdalefpc.ca
DTSTART:20240121T173000Z
DTEND:20240121T183000Z
CLASS:PUBLIC
CREATED:20260419T032410
DESCRIPTION:Sunday School
LAST-MODIFIED:20260419T032410
LOCATION:
SUMMARY:Sunday School
URL;VALUE=URI:https://www.cloverdalefpc.ca/events/sunday-school/2024-01-21
END:VEVENT
END:VCALENDAR
