BEGIN:VCALENDAR
VERSION:2.0
PRODID:icalendar-ruby
CALSCALE:GREGORIAN
METHOD:PUBLISH
BEGIN:VEVENT
DTSTAMP:20260419T161602Z
UID:5-11163145@cloverdalefpc.ca
DTSTART:20240204T173000Z
DTEND:20240204T183000Z
CLASS:PUBLIC
CREATED:20260419T070722
DESCRIPTION:Sunday School
LAST-MODIFIED:20260419T070722
LOCATION:
SUMMARY:Sunday School
URL;VALUE=URI:https://www.cloverdalefpc.ca/events/sunday-school/2024-02-04
END:VEVENT
END:VCALENDAR
