BEGIN:VCALENDAR
VERSION:2.0
PRODID:icalendar-ruby
CALSCALE:GREGORIAN
METHOD:PUBLISH
BEGIN:VEVENT
DTSTAMP:20260419T180915Z
UID:5-11168427@cloverdalefpc.ca
DTSTART:20240211T173000Z
DTEND:20240211T183000Z
CLASS:PUBLIC
CREATED:20260419T104900
DESCRIPTION:Sunday School
LAST-MODIFIED:20260419T104900
LOCATION:
SUMMARY:Sunday School
URL;VALUE=URI:https://www.cloverdalefpc.ca/events/sunday-school/2024-02-11
END:VEVENT
END:VCALENDAR
