BEGIN:VCALENDAR
VERSION:2.0
PRODID:icalendar-ruby
CALSCALE:GREGORIAN
METHOD:PUBLISH
BEGIN:VEVENT
DTSTAMP:20260420T001444Z
UID:5-11173714@cloverdalefpc.ca
DTSTART:20240303T173000Z
DTEND:20240303T183000Z
CLASS:PUBLIC
CREATED:20260419T143148
DESCRIPTION:Sunday School
LAST-MODIFIED:20260419T143148
LOCATION:
SUMMARY:Sunday School
URL;VALUE=URI:https://www.cloverdalefpc.ca/events/sunday-school/2024-03-03
END:VEVENT
END:VCALENDAR
