BEGIN:VCALENDAR
VERSION:2.0
PRODID:icalendar-ruby
CALSCALE:GREGORIAN
METHOD:PUBLISH
BEGIN:VEVENT
DTSTAMP:20260420T044758Z
UID:5-11179002@cloverdalefpc.ca
DTSTART:20240317T163000Z
DTEND:20240317T173000Z
CLASS:PUBLIC
CREATED:20260419T181254
DESCRIPTION:Sunday School
LAST-MODIFIED:20260419T181254
LOCATION:
SUMMARY:Sunday School
URL;VALUE=URI:https://www.cloverdalefpc.ca/events/sunday-school/2024-03-17
END:VEVENT
END:VCALENDAR
