BEGIN:VCALENDAR
VERSION:2.0
PRODID:icalendar-ruby
CALSCALE:GREGORIAN
METHOD:PUBLISH
BEGIN:VEVENT
DTSTAMP:20260420T064846Z
UID:5-11184289@cloverdalefpc.ca
DTSTART:20240324T163000Z
DTEND:20240324T173000Z
CLASS:PUBLIC
CREATED:20260419T214952
DESCRIPTION:Sunday School
LAST-MODIFIED:20260419T214952
LOCATION:
SUMMARY:Sunday School
URL;VALUE=URI:https://www.cloverdalefpc.ca/events/sunday-school/2024-03-24
END:VEVENT
END:VCALENDAR
