BEGIN:VCALENDAR
VERSION:2.0
PRODID:icalendar-ruby
CALSCALE:GREGORIAN
METHOD:PUBLISH
BEGIN:VEVENT
DTSTAMP:20260420T205409Z
UID:5-11210741@cloverdalefpc.ca
DTSTART:20240512T163000Z
DTEND:20240512T173000Z
CLASS:PUBLIC
CREATED:20260420T133604
DESCRIPTION:Sunday School
LAST-MODIFIED:20260420T133604
LOCATION:
SUMMARY:Sunday School
URL;VALUE=URI:https://www.cloverdalefpc.ca/events/sunday-school/2024-05-12
END:VEVENT
END:VCALENDAR
