BEGIN:VCALENDAR
VERSION:2.0
PRODID:icalendar-ruby
CALSCALE:GREGORIAN
METHOD:PUBLISH
BEGIN:VEVENT
DTSTAMP:20260420T230426Z
UID:5-11210742@cloverdalefpc.ca
DTSTART:20240519T163000Z
DTEND:20240519T173000Z
CLASS:PUBLIC
CREATED:20260420T133604
DESCRIPTION:Sunday School
LAST-MODIFIED:20260420T133604
LOCATION:
SUMMARY:Sunday School
URL;VALUE=URI:https://www.cloverdalefpc.ca/events/sunday-school/2024-05-19
END:VEVENT
END:VCALENDAR
