BEGIN:VCALENDAR
VERSION:2.0
PRODID:icalendar-ruby
CALSCALE:GREGORIAN
METHOD:PUBLISH
BEGIN:VEVENT
DTSTAMP:20260421T081547Z
UID:5-11216036@cloverdalefpc.ca
DTSTART:20240623T163000Z
DTEND:20240623T173000Z
CLASS:PUBLIC
CREATED:20260420T161117
DESCRIPTION:Sunday School
LAST-MODIFIED:20260420T161117
LOCATION:
SUMMARY:Sunday School
URL;VALUE=URI:https://www.cloverdalefpc.ca/events/sunday-school/2024-06-23
END:VEVENT
END:VCALENDAR
