BEGIN:VCALENDAR
VERSION:2.0
PRODID:icalendar-ruby
CALSCALE:GREGORIAN
METHOD:PUBLISH
BEGIN:VEVENT
DTSTAMP:20260421T102808Z
UID:5-11221326@cloverdalefpc.ca
DTSTART:20240630T163000Z
DTEND:20240630T173000Z
CLASS:PUBLIC
CREATED:20260421T031701
DESCRIPTION:Sunday School
LAST-MODIFIED:20260421T031701
LOCATION:
SUMMARY:Sunday School
URL;VALUE=URI:https://www.cloverdalefpc.ca/events/sunday-school/2024-06-30
END:VEVENT
END:VCALENDAR
