BEGIN:VCALENDAR
VERSION:2.0
PRODID:icalendar-ruby
CALSCALE:GREGORIAN
METHOD:PUBLISH
BEGIN:VEVENT
DTSTAMP:20260421T122958Z
UID:5-11221327@cloverdalefpc.ca
DTSTART:20240707T163000Z
DTEND:20240707T173000Z
CLASS:PUBLIC
CREATED:20260421T031701
DESCRIPTION:Sunday School
LAST-MODIFIED:20260421T031701
LOCATION:
SUMMARY:Sunday School
URL;VALUE=URI:https://www.cloverdalefpc.ca/events/sunday-school/2024-07-07
END:VEVENT
END:VCALENDAR
