BEGIN:VCALENDAR
VERSION:2.0
PRODID:icalendar-ruby
CALSCALE:GREGORIAN
METHOD:PUBLISH
BEGIN:VEVENT
DTSTAMP:20260421T162212Z
UID:5-11231907@cloverdalefpc.ca
DTSTART:20240721T163000Z
DTEND:20240721T173000Z
CLASS:PUBLIC
CREATED:20260421T082919
DESCRIPTION:Sunday School
LAST-MODIFIED:20260421T082919
LOCATION:
SUMMARY:Sunday School
URL;VALUE=URI:https://www.cloverdalefpc.ca/events/sunday-school/2024-07-21
END:VEVENT
END:VCALENDAR
