BEGIN:VCALENDAR
VERSION:2.0
PRODID:icalendar-ruby
CALSCALE:GREGORIAN
METHOD:PUBLISH
BEGIN:VEVENT
DTSTAMP:20260421T181110Z
UID:5-11237197@cloverdalefpc.ca
DTSTART:20240728T163000Z
DTEND:20240728T173000Z
CLASS:PUBLIC
CREATED:20260421T110905
DESCRIPTION:Sunday School
LAST-MODIFIED:20260421T110905
LOCATION:
SUMMARY:Sunday School
URL;VALUE=URI:https://www.cloverdalefpc.ca/events/sunday-school/2024-07-28
END:VEVENT
END:VCALENDAR
