BEGIN:VCALENDAR
VERSION:2.0
PRODID:icalendar-ruby
CALSCALE:GREGORIAN
METHOD:PUBLISH
BEGIN:VEVENT
DTSTAMP:20260422T032052Z
UID:5-11247780@cloverdalefpc.ca
DTSTART:20240901T163000Z
DTEND:20240901T173000Z
CLASS:PUBLIC
CREATED:20260421T162344
DESCRIPTION:Sunday School
LAST-MODIFIED:20260421T162344
LOCATION:
SUMMARY:Sunday School
URL;VALUE=URI:https://www.cloverdalefpc.ca/events/sunday-school/2024-09-01
END:VEVENT
END:VCALENDAR
