BEGIN:VCALENDAR
VERSION:2.0
PRODID:icalendar-ruby
CALSCALE:GREGORIAN
METHOD:PUBLISH
BEGIN:VEVENT
DTSTAMP:20260423T044215Z
UID:5-11279528@cloverdalefpc.ca
DTSTART:20241208T173000Z
DTEND:20241208T183000Z
CLASS:PUBLIC
CREATED:20260422T174944
DESCRIPTION:Sunday School
LAST-MODIFIED:20260422T174944
LOCATION:
SUMMARY:Sunday School
URL;VALUE=URI:https://www.cloverdalefpc.ca/events/sunday-school/2024-12-08
END:VEVENT
END:VCALENDAR
