BEGIN:VCALENDAR
VERSION:2.0
PRODID:icalendar-ruby
CALSCALE:GREGORIAN
METHOD:PUBLISH
BEGIN:VEVENT
DTSTAMP:20260423T162430Z
UID:5-11295407@cloverdalefpc.ca
DTSTART:20250119T173000Z
DTEND:20250119T183000Z
CLASS:PUBLIC
CREATED:20260423T090703
DESCRIPTION:Sunday School
LAST-MODIFIED:20260423T090703
LOCATION:
SUMMARY:Sunday School
URL;VALUE=URI:https://www.cloverdalefpc.ca/events/sunday-school/2025-01-19
END:VEVENT
END:VCALENDAR
