BEGIN:VCALENDAR
VERSION:2.0
PRODID:icalendar-ruby
CALSCALE:GREGORIAN
METHOD:PUBLISH
BEGIN:VEVENT
DTSTAMP:20260423T182502Z
UID:5-11295408@cloverdalefpc.ca
DTSTART:20250126T173000Z
DTEND:20250126T183000Z
CLASS:PUBLIC
CREATED:20260423T090703
DESCRIPTION:Sunday School
LAST-MODIFIED:20260423T090703
LOCATION:
SUMMARY:Sunday School
URL;VALUE=URI:https://www.cloverdalefpc.ca/events/sunday-school/2025-01-26
END:VEVENT
END:VCALENDAR
