BEGIN:VCALENDAR
VERSION:2.0
PRODID:icalendar-ruby
CALSCALE:GREGORIAN
METHOD:PUBLISH
BEGIN:VEVENT
DTSTAMP:20260423T201755Z
UID:5-11300701@cloverdalefpc.ca
DTSTART:20250202T173000Z
DTEND:20250202T183000Z
CLASS:PUBLIC
CREATED:20260423T120419
DESCRIPTION:Sunday School
LAST-MODIFIED:20260423T120419
LOCATION:
SUMMARY:Sunday School
URL;VALUE=URI:https://www.cloverdalefpc.ca/events/sunday-school/2025-02-02
END:VEVENT
END:VCALENDAR
