BEGIN:VCALENDAR
VERSION:2.0
PRODID:icalendar-ruby
CALSCALE:GREGORIAN
METHOD:PUBLISH
BEGIN:VEVENT
DTSTAMP:20260424T002921Z
UID:5-11305995@cloverdalefpc.ca
DTSTART:20250216T173000Z
DTEND:20250216T183000Z
CLASS:PUBLIC
CREATED:20260423T145842
DESCRIPTION:Sunday School
LAST-MODIFIED:20260423T145842
LOCATION:
SUMMARY:Sunday School
URL;VALUE=URI:https://www.cloverdalefpc.ca/events/sunday-school/2025-02-16
END:VEVENT
END:VCALENDAR
