BEGIN:VCALENDAR
VERSION:2.0
PRODID:icalendar-ruby
CALSCALE:GREGORIAN
METHOD:PUBLISH
BEGIN:VEVENT
DTSTAMP:20260424T015918Z
UID:5-11311288@cloverdalefpc.ca
DTSTART:20250223T173000Z
DTEND:20250223T183000Z
CLASS:PUBLIC
CREATED:20260423T175122
DESCRIPTION:Sunday School
LAST-MODIFIED:20260423T175122
LOCATION:
SUMMARY:Sunday School
URL;VALUE=URI:https://www.cloverdalefpc.ca/events/sunday-school/2025-02-23
END:VEVENT
END:VCALENDAR
