BEGIN:VCALENDAR
VERSION:2.0
PRODID:icalendar-ruby
CALSCALE:GREGORIAN
METHOD:PUBLISH
BEGIN:VEVENT
DTSTAMP:20260424T031420Z
UID:5-11311289@cloverdalefpc.ca
DTSTART:20250302T173000Z
DTEND:20250302T183000Z
CLASS:PUBLIC
CREATED:20260423T175122
DESCRIPTION:Sunday School
LAST-MODIFIED:20260423T175122
LOCATION:
SUMMARY:Sunday School
URL;VALUE=URI:https://www.cloverdalefpc.ca/events/sunday-school/2025-03-02
END:VEVENT
END:VCALENDAR
