BEGIN:VCALENDAR
VERSION:2.0
PRODID:icalendar-ruby
CALSCALE:GREGORIAN
METHOD:PUBLISH
BEGIN:VEVENT
DTSTAMP:20260424T042813Z
UID:5-11311290@cloverdalefpc.ca
DTSTART:20250309T163000Z
DTEND:20250309T173000Z
CLASS:PUBLIC
CREATED:20260423T175122
DESCRIPTION:Sunday School
LAST-MODIFIED:20260423T175122
LOCATION:
SUMMARY:Sunday School
URL;VALUE=URI:https://www.cloverdalefpc.ca/events/sunday-school/2025-03-09
END:VEVENT
END:VCALENDAR
