BEGIN:VCALENDAR
VERSION:2.0
PRODID:icalendar-ruby
CALSCALE:GREGORIAN
METHOD:PUBLISH
BEGIN:VEVENT
DTSTAMP:20260420T222803Z
UID:5-11210866@cloverdalefpc.ca
DTSTART:20261004T163000Z
DTEND:20261004T173000Z
CLASS:PUBLIC
CREATED:20260420T133605
DESCRIPTION:Sunday School
LAST-MODIFIED:20260420T133605
LOCATION:
SUMMARY:Sunday School
URL;VALUE=URI:https://www.cloverdalefpc.ca/events/sunday-school/2026-10-04
END:VEVENT
END:VCALENDAR
