BEGIN:VCALENDAR
VERSION:2.0
PRODID:icalendar-ruby
CALSCALE:GREGORIAN
METHOD:PUBLISH
BEGIN:VEVENT
DTSTAMP:20260421T042636Z
UID:5-11216158@cloverdalefpc.ca
DTSTART:20261025T163000Z
DTEND:20261025T173000Z
CLASS:PUBLIC
CREATED:20260420T161117
DESCRIPTION:Sunday School
LAST-MODIFIED:20260420T161117
LOCATION:
SUMMARY:Sunday School
URL;VALUE=URI:https://www.cloverdalefpc.ca/events/sunday-school/2026-10-25
END:VEVENT
END:VCALENDAR
