BEGIN:VCALENDAR
VERSION:2.0
PRODID:icalendar-ruby
CALSCALE:GREGORIAN
METHOD:PUBLISH
BEGIN:VEVENT
DTSTAMP:20260421T062320Z
UID:5-11216159@cloverdalefpc.ca
DTSTART:20261101T173000Z
DTEND:20261101T183000Z
CLASS:PUBLIC
CREATED:20260420T161117
DESCRIPTION:Sunday School
LAST-MODIFIED:20260420T161117
LOCATION:
SUMMARY:Sunday School
URL;VALUE=URI:https://www.cloverdalefpc.ca/events/sunday-school/2026-11-01
END:VEVENT
END:VCALENDAR
